BEGIN:VCALENDAR
VERSION:2.0
PRODID:-//Newport Beach Community Connection - ECPv6.15.13.1//NONSGML v1.0//EN
CALSCALE:GREGORIAN
METHOD:PUBLISH
X-WR-CALNAME:Newport Beach Community Connection
X-ORIGINAL-URL:https://www.newportconnection.com
X-WR-CALDESC:Events for Newport Beach Community Connection
REFRESH-INTERVAL;VALUE=DURATION:PT1H
X-Robots-Tag:noindex
X-PUBLISHED-TTL:PT1H
BEGIN:VTIMEZONE
TZID:America/Los_Angeles
BEGIN:DAYLIGHT
TZOFFSETFROM:-0800
TZOFFSETTO:-0700
TZNAME:PDT
DTSTART:20240310T100000
END:DAYLIGHT
BEGIN:STANDARD
TZOFFSETFROM:-0700
TZOFFSETTO:-0800
TZNAME:PST
DTSTART:20241103T090000
END:STANDARD
BEGIN:DAYLIGHT
TZOFFSETFROM:-0800
TZOFFSETTO:-0700
TZNAME:PDT
DTSTART:20250309T100000
END:DAYLIGHT
BEGIN:STANDARD
TZOFFSETFROM:-0700
TZOFFSETTO:-0800
TZNAME:PST
DTSTART:20251102T090000
END:STANDARD
BEGIN:DAYLIGHT
TZOFFSETFROM:-0800
TZOFFSETTO:-0700
TZNAME:PDT
DTSTART:20260308T100000
END:DAYLIGHT
BEGIN:STANDARD
TZOFFSETFROM:-0700
TZOFFSETTO:-0800
TZNAME:PST
DTSTART:20261101T090000
END:STANDARD
END:VTIMEZONE
BEGIN:VEVENT
DTSTART;TZID=America/Los_Angeles:20250316T090000
DTEND;TZID=America/Los_Angeles:20250316T130000
DTSTAMP:20260422T041029
CREATED:20250124T023431Z
LAST-MODIFIED:20250124T023431Z
UID:10000725-1742115600-1742130000@www.newportconnection.com
SUMMARY:Newport Beach Farmers Market
DESCRIPTION:Support your local farmers and be part of the community farmers’ market! Buy healthy natural fruits\, vegetables\, produce and eggs. Fresh bread\, healthy snacks\, join local artisans on the Pier selling candles\, jewelry and artwork! Free Raffle\, kids scavenger hunt and more!
URL:https://www.newportconnection.com/event/newport-beach-farmers-market/2025-03-16/
LOCATION:Newport Beach Pier\, 1 Newport Beach Pier\, Newport Beach\, CA\, 92663\, United States
ATTACH;FMTTYPE=image/jpeg:https://www.newportconnection.com/wp-content/uploads/2025/01/farmersmarket-1600x960-1.jpg
END:VEVENT
BEGIN:VEVENT
DTSTART;TZID=America/Los_Angeles:20250309T090000
DTEND;TZID=America/Los_Angeles:20250309T130000
DTSTAMP:20260422T041029
CREATED:20250124T023431Z
LAST-MODIFIED:20250124T023431Z
UID:10000724-1741510800-1741525200@www.newportconnection.com
SUMMARY:Newport Beach Farmers Market
DESCRIPTION:Support your local farmers and be part of the community farmers’ market! Buy healthy natural fruits\, vegetables\, produce and eggs. Fresh bread\, healthy snacks\, join local artisans on the Pier selling candles\, jewelry and artwork! Free Raffle\, kids scavenger hunt and more!
URL:https://www.newportconnection.com/event/newport-beach-farmers-market/2025-03-09/
LOCATION:Newport Beach Pier\, 1 Newport Beach Pier\, Newport Beach\, CA\, 92663\, United States
ATTACH;FMTTYPE=image/jpeg:https://www.newportconnection.com/wp-content/uploads/2025/01/farmersmarket-1600x960-1.jpg
END:VEVENT
BEGIN:VEVENT
DTSTART;TZID=America/Los_Angeles:20250302T090000
DTEND;TZID=America/Los_Angeles:20250302T130000
DTSTAMP:20260422T041029
CREATED:20250124T023431Z
LAST-MODIFIED:20250124T023431Z
UID:10000723-1740906000-1740920400@www.newportconnection.com
SUMMARY:Newport Beach Farmers Market
DESCRIPTION:Support your local farmers and be part of the community farmers’ market! Buy healthy natural fruits\, vegetables\, produce and eggs. Fresh bread\, healthy snacks\, join local artisans on the Pier selling candles\, jewelry and artwork! Free Raffle\, kids scavenger hunt and more!
URL:https://www.newportconnection.com/event/newport-beach-farmers-market/2025-03-02/
LOCATION:Newport Beach Pier\, 1 Newport Beach Pier\, Newport Beach\, CA\, 92663\, United States
ATTACH;FMTTYPE=image/jpeg:https://www.newportconnection.com/wp-content/uploads/2025/01/farmersmarket-1600x960-1.jpg
END:VEVENT
BEGIN:VEVENT
DTSTART;TZID=America/Los_Angeles:20250223T090000
DTEND;TZID=America/Los_Angeles:20250223T130000
DTSTAMP:20260422T041029
CREATED:20250124T023431Z
LAST-MODIFIED:20250124T023431Z
UID:10000722-1740301200-1740315600@www.newportconnection.com
SUMMARY:Newport Beach Farmers Market
DESCRIPTION:Support your local farmers and be part of the community farmers’ market! Buy healthy natural fruits\, vegetables\, produce and eggs. Fresh bread\, healthy snacks\, join local artisans on the Pier selling candles\, jewelry and artwork! Free Raffle\, kids scavenger hunt and more!
URL:https://www.newportconnection.com/event/newport-beach-farmers-market/2025-02-23/
LOCATION:Newport Beach Pier\, 1 Newport Beach Pier\, Newport Beach\, CA\, 92663\, United States
ATTACH;FMTTYPE=image/jpeg:https://www.newportconnection.com/wp-content/uploads/2025/01/farmersmarket-1600x960-1.jpg
END:VEVENT
BEGIN:VEVENT
DTSTART;TZID=America/Los_Angeles:20250216T090000
DTEND;TZID=America/Los_Angeles:20250216T130000
DTSTAMP:20260422T041029
CREATED:20250124T023431Z
LAST-MODIFIED:20250124T023431Z
UID:10000721-1739696400-1739710800@www.newportconnection.com
SUMMARY:Newport Beach Farmers Market
DESCRIPTION:Support your local farmers and be part of the community farmers’ market! Buy healthy natural fruits\, vegetables\, produce and eggs. Fresh bread\, healthy snacks\, join local artisans on the Pier selling candles\, jewelry and artwork! Free Raffle\, kids scavenger hunt and more!
URL:https://www.newportconnection.com/event/newport-beach-farmers-market/2025-02-16/
LOCATION:Newport Beach Pier\, 1 Newport Beach Pier\, Newport Beach\, CA\, 92663\, United States
ATTACH;FMTTYPE=image/jpeg:https://www.newportconnection.com/wp-content/uploads/2025/01/farmersmarket-1600x960-1.jpg
END:VEVENT
BEGIN:VEVENT
DTSTART;TZID=America/Los_Angeles:20250209T090000
DTEND;TZID=America/Los_Angeles:20250209T130000
DTSTAMP:20260422T041029
CREATED:20250124T023431Z
LAST-MODIFIED:20250124T023431Z
UID:10000720-1739091600-1739106000@www.newportconnection.com
SUMMARY:Newport Beach Farmers Market
DESCRIPTION:Support your local farmers and be part of the community farmers’ market! Buy healthy natural fruits\, vegetables\, produce and eggs. Fresh bread\, healthy snacks\, join local artisans on the Pier selling candles\, jewelry and artwork! Free Raffle\, kids scavenger hunt and more!
URL:https://www.newportconnection.com/event/newport-beach-farmers-market/2025-02-09/
LOCATION:Newport Beach Pier\, 1 Newport Beach Pier\, Newport Beach\, CA\, 92663\, United States
ATTACH;FMTTYPE=image/jpeg:https://www.newportconnection.com/wp-content/uploads/2025/01/farmersmarket-1600x960-1.jpg
END:VEVENT
BEGIN:VEVENT
DTSTART;TZID=America/Los_Angeles:20250202T090000
DTEND;TZID=America/Los_Angeles:20250202T130000
DTSTAMP:20260422T041029
CREATED:20250124T023431Z
LAST-MODIFIED:20250124T023431Z
UID:10000719-1738486800-1738501200@www.newportconnection.com
SUMMARY:Newport Beach Farmers Market
DESCRIPTION:Support your local farmers and be part of the community farmers’ market! Buy healthy natural fruits\, vegetables\, produce and eggs. Fresh bread\, healthy snacks\, join local artisans on the Pier selling candles\, jewelry and artwork! Free Raffle\, kids scavenger hunt and more!
URL:https://www.newportconnection.com/event/newport-beach-farmers-market/2025-02-02/
LOCATION:Newport Beach Pier\, 1 Newport Beach Pier\, Newport Beach\, CA\, 92663\, United States
ATTACH;FMTTYPE=image/jpeg:https://www.newportconnection.com/wp-content/uploads/2025/01/farmersmarket-1600x960-1.jpg
END:VEVENT
END:VCALENDAR