BEGIN:VCALENDAR
VERSION:2.0
PRODID:-//Newport Beach Community Connection - ECPv6.15.13.1//NONSGML v1.0//EN
CALSCALE:GREGORIAN
METHOD:PUBLISH
X-WR-CALNAME:Newport Beach Community Connection
X-ORIGINAL-URL:https://www.newportconnection.com
X-WR-CALDESC:Events for Newport Beach Community Connection
REFRESH-INTERVAL;VALUE=DURATION:PT1H
X-Robots-Tag:noindex
X-PUBLISHED-TTL:PT1H
BEGIN:VTIMEZONE
TZID:America/Los_Angeles
BEGIN:DAYLIGHT
TZOFFSETFROM:-0800
TZOFFSETTO:-0700
TZNAME:PDT
DTSTART:20230312T100000
END:DAYLIGHT
BEGIN:STANDARD
TZOFFSETFROM:-0700
TZOFFSETTO:-0800
TZNAME:PST
DTSTART:20231105T090000
END:STANDARD
BEGIN:DAYLIGHT
TZOFFSETFROM:-0800
TZOFFSETTO:-0700
TZNAME:PDT
DTSTART:20240310T100000
END:DAYLIGHT
BEGIN:STANDARD
TZOFFSETFROM:-0700
TZOFFSETTO:-0800
TZNAME:PST
DTSTART:20241103T090000
END:STANDARD
BEGIN:DAYLIGHT
TZOFFSETFROM:-0800
TZOFFSETTO:-0700
TZNAME:PDT
DTSTART:20250309T100000
END:DAYLIGHT
BEGIN:STANDARD
TZOFFSETFROM:-0700
TZOFFSETTO:-0800
TZNAME:PST
DTSTART:20251102T090000
END:STANDARD
BEGIN:DAYLIGHT
TZOFFSETFROM:-0800
TZOFFSETTO:-0700
TZNAME:PDT
DTSTART:20260308T100000
END:DAYLIGHT
BEGIN:STANDARD
TZOFFSETFROM:-0700
TZOFFSETTO:-0800
TZNAME:PST
DTSTART:20261101T090000
END:STANDARD
END:VTIMEZONE
BEGIN:VEVENT
DTSTART;TZID=America/Los_Angeles:20251012T160000
DTEND;TZID=America/Los_Angeles:20251012T173000
DTSTAMP:20260419T085511
CREATED:20250912T090542Z
LAST-MODIFIED:20250912T090650Z
UID:10000864-1760284800-1760290200@www.newportconnection.com
SUMMARY:Concerts at Marina Park: The 805 Social Club
DESCRIPTION:The City of Newport Beach Arts Commission presents its annual Summer Concerts Series on the Green featuring an array of performers for your entertainment. Bring your low-slung beach chairs and blankets and enjoy an evening in a fun atmosphere. Pack a picnic dinner or purchase from on-site gourmet food trucks . No alcohol is permitted. \nConcerts will be held at Marina Park (1600 West Balboa Boulevard\, Balboa Peninsula). Admission and parking are free\, on a first come\, first served basis. \nThe 805 Social Club \nThe History of Pop is a non-stop musical journey through the history of pop music\, covering seven decades of music from the psychedelic 60s to the new wave 80s to current hits today.  Each decade is presented in a short set\, introduced with an audio montage of news and pop culture sound clips to evoke the nostalgia from the era.
URL:https://www.newportconnection.com/event/concerts-at-marina-park-the-805-social-club/
LOCATION:Marina Park Community Center\, 1600 W. Balboa Blvd.\, Newport Beach\, CA\, United States
ATTACH;FMTTYPE=image/jpeg:https://www.newportconnection.com/wp-content/uploads/2025/07/638797318191500000-1600x960-1.jpg
END:VEVENT
BEGIN:VEVENT
DTSTART;TZID=America/Los_Angeles:20241220T173000
DTEND;TZID=America/Los_Angeles:20241220T200000
DTSTAMP:20260419T085511
CREATED:20241023T211223Z
LAST-MODIFIED:20241023T211531Z
UID:10000559-1734715800-1734724800@www.newportconnection.com
SUMMARY:Marina Park Family Fun Night
DESCRIPTION:Enjoy a fun family event for all ages\, with lots of activities\, dinner and an amazing view of the Newport Beach Christmas Boat Parade. We will have crafts for kids\, photos with Santa\, and the evening will include watching 116th Newport Beach Christmas Boat Parade from one of the most prestigious location. \nTickets are limited and will sell out\, registration begins Thursday\, November 14! \n$20/Kid & $30/Adult \nRegistration begins Thursday\, November 14 \n\n\n\n AGE\n PRICE\n CODE\n\n\nChildren 2+\n $20\n MPBPNK\n\n\nAdults\n $30\n MPBPNA\n\n\n\n• Boat Parade Viewing at 6:30 p.m. \n• Dinner & fun for kids. \n• Marina Park Community Center is located at 1600 W. Balboa Blvd\, Newport Beach \nFor more information\, please call 949-270-8150.
URL:https://www.newportconnection.com/event/marina-park-family-fun-night/
LOCATION:Marina Park Community Center\, 1600 W. Balboa Blvd.\, Newport Beach\, CA\, United States
ATTACH;FMTTYPE=image/jpeg:https://www.newportconnection.com/wp-content/uploads/2024/10/NB-Family-Fun-Night-1600x960-1.jpg
END:VEVENT
END:VCALENDAR