BEGIN:VCALENDAR
VERSION:2.0
PRODID:-//Newport Beach Community Connection - ECPv6.15.13.1//NONSGML v1.0//EN
CALSCALE:GREGORIAN
METHOD:PUBLISH
X-ORIGINAL-URL:https://www.newportconnection.com
X-WR-CALDESC:Events for Newport Beach Community Connection
REFRESH-INTERVAL;VALUE=DURATION:PT1H
X-Robots-Tag:noindex
X-PUBLISHED-TTL:PT1H
BEGIN:VTIMEZONE
TZID:America/Los_Angeles
BEGIN:DAYLIGHT
TZOFFSETFROM:-0800
TZOFFSETTO:-0700
TZNAME:PDT
DTSTART:20230312T100000
END:DAYLIGHT
BEGIN:STANDARD
TZOFFSETFROM:-0700
TZOFFSETTO:-0800
TZNAME:PST
DTSTART:20231105T090000
END:STANDARD
BEGIN:DAYLIGHT
TZOFFSETFROM:-0800
TZOFFSETTO:-0700
TZNAME:PDT
DTSTART:20240310T100000
END:DAYLIGHT
BEGIN:STANDARD
TZOFFSETFROM:-0700
TZOFFSETTO:-0800
TZNAME:PST
DTSTART:20241103T090000
END:STANDARD
BEGIN:DAYLIGHT
TZOFFSETFROM:-0800
TZOFFSETTO:-0700
TZNAME:PDT
DTSTART:20250309T100000
END:DAYLIGHT
BEGIN:STANDARD
TZOFFSETFROM:-0700
TZOFFSETTO:-0800
TZNAME:PST
DTSTART:20251102T090000
END:STANDARD
END:VTIMEZONE
BEGIN:VEVENT
DTSTART;VALUE=DATE:20241117
DTEND;VALUE=DATE:20241118
DTSTAMP:20260421T020231
CREATED:20241016T225637Z
LAST-MODIFIED:20241016T230328Z
UID:10000557-1731801600-1731887999@www.newportconnection.com
SUMMARY:Coast Film & Music Festival
DESCRIPTION:Get stoked! The Coast Film & Music Festival returns in Laguna Beach\, CA\, blending the magic of film\, inspiring conversations\, and the beauty of nature. This nine-day festival features a rich lineup of independent documentary films\, live performances by top musical artists\, and engaging keynote speakers\, plus Q&A panels with pro athletes\, filmmakers\, and environmental experts. Join us for a unique film festival experience that will leave you entertained\, informed\, and inspired. \nFor tickets and more details\, visit CoastFilmFestival.com
URL:https://www.newportconnection.com/event/__trashed/2024-11-17/
LOCATION:650 Laguna Canyon Rd\, Laguna Beach\, CA\, 92651\, United States
ATTACH;FMTTYPE=image/jpeg:https://www.newportconnection.com/wp-content/uploads/2024/09/COAST_FilmFest_2024.jpg
END:VEVENT
BEGIN:VEVENT
DTSTART;VALUE=DATE:20241116
DTEND;VALUE=DATE:20241117
DTSTAMP:20260421T020231
CREATED:20241016T225637Z
LAST-MODIFIED:20241016T230328Z
UID:10000556-1731715200-1731801599@www.newportconnection.com
SUMMARY:Coast Film & Music Festival
DESCRIPTION:Get stoked! The Coast Film & Music Festival returns in Laguna Beach\, CA\, blending the magic of film\, inspiring conversations\, and the beauty of nature. This nine-day festival features a rich lineup of independent documentary films\, live performances by top musical artists\, and engaging keynote speakers\, plus Q&A panels with pro athletes\, filmmakers\, and environmental experts. Join us for a unique film festival experience that will leave you entertained\, informed\, and inspired. \nFor tickets and more details\, visit CoastFilmFestival.com
URL:https://www.newportconnection.com/event/__trashed/2024-11-16/
LOCATION:650 Laguna Canyon Rd\, Laguna Beach\, CA\, 92651\, United States
ATTACH;FMTTYPE=image/jpeg:https://www.newportconnection.com/wp-content/uploads/2024/09/COAST_FilmFest_2024.jpg
END:VEVENT
BEGIN:VEVENT
DTSTART;VALUE=DATE:20241115
DTEND;VALUE=DATE:20241116
DTSTAMP:20260421T020231
CREATED:20241016T225637Z
LAST-MODIFIED:20241016T230328Z
UID:10000549-1731628800-1731715199@www.newportconnection.com
SUMMARY:Coast Film & Music Festival
DESCRIPTION:Get stoked! The Coast Film & Music Festival returns in Laguna Beach\, CA\, blending the magic of film\, inspiring conversations\, and the beauty of nature. This nine-day festival features a rich lineup of independent documentary films\, live performances by top musical artists\, and engaging keynote speakers\, plus Q&A panels with pro athletes\, filmmakers\, and environmental experts. Join us for a unique film festival experience that will leave you entertained\, informed\, and inspired. \nFor tickets and more details\, visit CoastFilmFestival.com
URL:https://www.newportconnection.com/event/__trashed/2024-11-15/
LOCATION:650 Laguna Canyon Rd\, Laguna Beach\, CA\, 92651\, United States
ATTACH;FMTTYPE=image/jpeg:https://www.newportconnection.com/wp-content/uploads/2024/09/COAST_FilmFest_2024.jpg
END:VEVENT
END:VCALENDAR