BEGIN:VCALENDAR
VERSION:2.0
PRODID:-//Newport Beach Community Connection - ECPv6.15.13.1//NONSGML v1.0//EN
CALSCALE:GREGORIAN
METHOD:PUBLISH
X-WR-CALNAME:Newport Beach Community Connection
X-ORIGINAL-URL:https://www.newportconnection.com
X-WR-CALDESC:Events for Newport Beach Community Connection
REFRESH-INTERVAL;VALUE=DURATION:PT1H
X-Robots-Tag:noindex
X-PUBLISHED-TTL:PT1H
BEGIN:VTIMEZONE
TZID:America/Los_Angeles
BEGIN:DAYLIGHT
TZOFFSETFROM:-0800
TZOFFSETTO:-0700
TZNAME:PDT
DTSTART:20230312T100000
END:DAYLIGHT
BEGIN:STANDARD
TZOFFSETFROM:-0700
TZOFFSETTO:-0800
TZNAME:PST
DTSTART:20231105T090000
END:STANDARD
BEGIN:DAYLIGHT
TZOFFSETFROM:-0800
TZOFFSETTO:-0700
TZNAME:PDT
DTSTART:20240310T100000
END:DAYLIGHT
BEGIN:STANDARD
TZOFFSETFROM:-0700
TZOFFSETTO:-0800
TZNAME:PST
DTSTART:20241103T090000
END:STANDARD
BEGIN:DAYLIGHT
TZOFFSETFROM:-0800
TZOFFSETTO:-0700
TZNAME:PDT
DTSTART:20250309T100000
END:DAYLIGHT
BEGIN:STANDARD
TZOFFSETFROM:-0700
TZOFFSETTO:-0800
TZNAME:PST
DTSTART:20251102T090000
END:STANDARD
END:VTIMEZONE
BEGIN:VEVENT
DTSTART;TZID=America/Los_Angeles:20241220T173000
DTEND;TZID=America/Los_Angeles:20241220T200000
DTSTAMP:20260419T124947
CREATED:20241203T235410Z
LAST-MODIFIED:20241203T235410Z
UID:10000687-1734715800-1734724800@www.newportconnection.com
SUMMARY:Dazzling Displays at Fashion Island
DESCRIPTION:Walk through Fashion Island’s star-lit path for memorable photos this holiday season at the following locations: \nNeiman Marcus/Bloomingdale’s Courtyard \nMacy’s Courtyard 
URL:https://www.newportconnection.com/event/dazzling-displays-at-fashion-island-2/2024-12-20/
LOCATION:Fashion Island\, 401 Newport Center Drive\, Newport Beach\, CA\, 92660\, United States
ATTACH;FMTTYPE=image/jpeg:https://www.newportconnection.com/wp-content/uploads/2024/12/FI-Dazzling-Displays-2024.jpg
END:VEVENT
BEGIN:VEVENT
DTSTART;TZID=America/Los_Angeles:20241220T173000
DTEND;TZID=America/Los_Angeles:20241220T200000
DTSTAMP:20260419T124947
CREATED:20241122T055233Z
LAST-MODIFIED:20241122T055242Z
UID:10000621-1734715800-1734724800@www.newportconnection.com
SUMMARY:Dazzling Displays at Fashion Island
DESCRIPTION:Walk through Fashion Island’s star-lit path for memorable photos this holiday season at the following locations: \nNeiman Marcus/Bloomingdale’s Courtyard \nMacy’s Courtyard 
URL:https://www.newportconnection.com/event/dazzling-displays-at-fashion-island/2024-12-20/
LOCATION:Fashion Island\, 401 Newport Center Drive\, Newport Beach\, CA\, 92660\, United States
ATTACH;FMTTYPE=image/jpeg:https://www.newportconnection.com/wp-content/uploads/2024/11/FI-Dazzling-Displays-2024.jpg
END:VEVENT
BEGIN:VEVENT
DTSTART;TZID=America/Los_Angeles:20241219T173000
DTEND;TZID=America/Los_Angeles:20241219T200000
DTSTAMP:20260419T124947
CREATED:20241203T235410Z
LAST-MODIFIED:20241203T235410Z
UID:10000686-1734629400-1734638400@www.newportconnection.com
SUMMARY:Dazzling Displays at Fashion Island
DESCRIPTION:Walk through Fashion Island’s star-lit path for memorable photos this holiday season at the following locations: \nNeiman Marcus/Bloomingdale’s Courtyard \nMacy’s Courtyard 
URL:https://www.newportconnection.com/event/dazzling-displays-at-fashion-island-2/2024-12-19/
LOCATION:Fashion Island\, 401 Newport Center Drive\, Newport Beach\, CA\, 92660\, United States
ATTACH;FMTTYPE=image/jpeg:https://www.newportconnection.com/wp-content/uploads/2024/12/FI-Dazzling-Displays-2024.jpg
END:VEVENT
BEGIN:VEVENT
DTSTART;TZID=America/Los_Angeles:20241219T173000
DTEND;TZID=America/Los_Angeles:20241219T200000
DTSTAMP:20260419T124947
CREATED:20241122T055233Z
LAST-MODIFIED:20241122T055242Z
UID:10000620-1734629400-1734638400@www.newportconnection.com
SUMMARY:Dazzling Displays at Fashion Island
DESCRIPTION:Walk through Fashion Island’s star-lit path for memorable photos this holiday season at the following locations: \nNeiman Marcus/Bloomingdale’s Courtyard \nMacy’s Courtyard 
URL:https://www.newportconnection.com/event/dazzling-displays-at-fashion-island/2024-12-19/
LOCATION:Fashion Island\, 401 Newport Center Drive\, Newport Beach\, CA\, 92660\, United States
ATTACH;FMTTYPE=image/jpeg:https://www.newportconnection.com/wp-content/uploads/2024/11/FI-Dazzling-Displays-2024.jpg
END:VEVENT
BEGIN:VEVENT
DTSTART;TZID=America/Los_Angeles:20241218T173000
DTEND;TZID=America/Los_Angeles:20241218T200000
DTSTAMP:20260419T124947
CREATED:20241203T235410Z
LAST-MODIFIED:20241203T235410Z
UID:10000685-1734543000-1734552000@www.newportconnection.com
SUMMARY:Dazzling Displays at Fashion Island
DESCRIPTION:Walk through Fashion Island’s star-lit path for memorable photos this holiday season at the following locations: \nNeiman Marcus/Bloomingdale’s Courtyard \nMacy’s Courtyard 
URL:https://www.newportconnection.com/event/dazzling-displays-at-fashion-island-2/2024-12-18/
LOCATION:Fashion Island\, 401 Newport Center Drive\, Newport Beach\, CA\, 92660\, United States
ATTACH;FMTTYPE=image/jpeg:https://www.newportconnection.com/wp-content/uploads/2024/12/FI-Dazzling-Displays-2024.jpg
END:VEVENT
BEGIN:VEVENT
DTSTART;TZID=America/Los_Angeles:20241218T173000
DTEND;TZID=America/Los_Angeles:20241218T200000
DTSTAMP:20260419T124947
CREATED:20241122T055233Z
LAST-MODIFIED:20241122T055242Z
UID:10000619-1734543000-1734552000@www.newportconnection.com
SUMMARY:Dazzling Displays at Fashion Island
DESCRIPTION:Walk through Fashion Island’s star-lit path for memorable photos this holiday season at the following locations: \nNeiman Marcus/Bloomingdale’s Courtyard \nMacy’s Courtyard 
URL:https://www.newportconnection.com/event/dazzling-displays-at-fashion-island/2024-12-18/
LOCATION:Fashion Island\, 401 Newport Center Drive\, Newport Beach\, CA\, 92660\, United States
ATTACH;FMTTYPE=image/jpeg:https://www.newportconnection.com/wp-content/uploads/2024/11/FI-Dazzling-Displays-2024.jpg
END:VEVENT
BEGIN:VEVENT
DTSTART;TZID=America/Los_Angeles:20241217T173000
DTEND;TZID=America/Los_Angeles:20241217T200000
DTSTAMP:20260419T124947
CREATED:20241203T235410Z
LAST-MODIFIED:20241203T235410Z
UID:10000684-1734456600-1734465600@www.newportconnection.com
SUMMARY:Dazzling Displays at Fashion Island
DESCRIPTION:Walk through Fashion Island’s star-lit path for memorable photos this holiday season at the following locations: \nNeiman Marcus/Bloomingdale’s Courtyard \nMacy’s Courtyard 
URL:https://www.newportconnection.com/event/dazzling-displays-at-fashion-island-2/2024-12-17/
LOCATION:Fashion Island\, 401 Newport Center Drive\, Newport Beach\, CA\, 92660\, United States
ATTACH;FMTTYPE=image/jpeg:https://www.newportconnection.com/wp-content/uploads/2024/12/FI-Dazzling-Displays-2024.jpg
END:VEVENT
BEGIN:VEVENT
DTSTART;TZID=America/Los_Angeles:20241217T173000
DTEND;TZID=America/Los_Angeles:20241217T200000
DTSTAMP:20260419T124947
CREATED:20241122T055233Z
LAST-MODIFIED:20241122T055242Z
UID:10000618-1734456600-1734465600@www.newportconnection.com
SUMMARY:Dazzling Displays at Fashion Island
DESCRIPTION:Walk through Fashion Island’s star-lit path for memorable photos this holiday season at the following locations: \nNeiman Marcus/Bloomingdale’s Courtyard \nMacy’s Courtyard 
URL:https://www.newportconnection.com/event/dazzling-displays-at-fashion-island/2024-12-17/
LOCATION:Fashion Island\, 401 Newport Center Drive\, Newport Beach\, CA\, 92660\, United States
ATTACH;FMTTYPE=image/jpeg:https://www.newportconnection.com/wp-content/uploads/2024/11/FI-Dazzling-Displays-2024.jpg
END:VEVENT
BEGIN:VEVENT
DTSTART;TZID=America/Los_Angeles:20241216T173000
DTEND;TZID=America/Los_Angeles:20241216T200000
DTSTAMP:20260419T124947
CREATED:20241203T235410Z
LAST-MODIFIED:20241203T235410Z
UID:10000683-1734370200-1734379200@www.newportconnection.com
SUMMARY:Dazzling Displays at Fashion Island
DESCRIPTION:Walk through Fashion Island’s star-lit path for memorable photos this holiday season at the following locations: \nNeiman Marcus/Bloomingdale’s Courtyard \nMacy’s Courtyard 
URL:https://www.newportconnection.com/event/dazzling-displays-at-fashion-island-2/2024-12-16/
LOCATION:Fashion Island\, 401 Newport Center Drive\, Newport Beach\, CA\, 92660\, United States
ATTACH;FMTTYPE=image/jpeg:https://www.newportconnection.com/wp-content/uploads/2024/12/FI-Dazzling-Displays-2024.jpg
END:VEVENT
BEGIN:VEVENT
DTSTART;TZID=America/Los_Angeles:20241216T173000
DTEND;TZID=America/Los_Angeles:20241216T200000
DTSTAMP:20260419T124947
CREATED:20241122T055233Z
LAST-MODIFIED:20241122T055242Z
UID:10000617-1734370200-1734379200@www.newportconnection.com
SUMMARY:Dazzling Displays at Fashion Island
DESCRIPTION:Walk through Fashion Island’s star-lit path for memorable photos this holiday season at the following locations: \nNeiman Marcus/Bloomingdale’s Courtyard \nMacy’s Courtyard 
URL:https://www.newportconnection.com/event/dazzling-displays-at-fashion-island/2024-12-16/
LOCATION:Fashion Island\, 401 Newport Center Drive\, Newport Beach\, CA\, 92660\, United States
ATTACH;FMTTYPE=image/jpeg:https://www.newportconnection.com/wp-content/uploads/2024/11/FI-Dazzling-Displays-2024.jpg
END:VEVENT
BEGIN:VEVENT
DTSTART;TZID=America/Los_Angeles:20241215T173000
DTEND;TZID=America/Los_Angeles:20241215T200000
DTSTAMP:20260419T124947
CREATED:20241203T235410Z
LAST-MODIFIED:20241203T235410Z
UID:10000682-1734283800-1734292800@www.newportconnection.com
SUMMARY:Dazzling Displays at Fashion Island
DESCRIPTION:Walk through Fashion Island’s star-lit path for memorable photos this holiday season at the following locations: \nNeiman Marcus/Bloomingdale’s Courtyard \nMacy’s Courtyard 
URL:https://www.newportconnection.com/event/dazzling-displays-at-fashion-island-2/2024-12-15/
LOCATION:Fashion Island\, 401 Newport Center Drive\, Newport Beach\, CA\, 92660\, United States
ATTACH;FMTTYPE=image/jpeg:https://www.newportconnection.com/wp-content/uploads/2024/12/FI-Dazzling-Displays-2024.jpg
END:VEVENT
BEGIN:VEVENT
DTSTART;TZID=America/Los_Angeles:20241215T173000
DTEND;TZID=America/Los_Angeles:20241215T200000
DTSTAMP:20260419T124947
CREATED:20241122T055233Z
LAST-MODIFIED:20241122T055242Z
UID:10000616-1734283800-1734292800@www.newportconnection.com
SUMMARY:Dazzling Displays at Fashion Island
DESCRIPTION:Walk through Fashion Island’s star-lit path for memorable photos this holiday season at the following locations: \nNeiman Marcus/Bloomingdale’s Courtyard \nMacy’s Courtyard 
URL:https://www.newportconnection.com/event/dazzling-displays-at-fashion-island/2024-12-15/
LOCATION:Fashion Island\, 401 Newport Center Drive\, Newport Beach\, CA\, 92660\, United States
ATTACH;FMTTYPE=image/jpeg:https://www.newportconnection.com/wp-content/uploads/2024/11/FI-Dazzling-Displays-2024.jpg
END:VEVENT
BEGIN:VEVENT
DTSTART;TZID=America/Los_Angeles:20241214T173000
DTEND;TZID=America/Los_Angeles:20241214T200000
DTSTAMP:20260419T124947
CREATED:20241203T235410Z
LAST-MODIFIED:20241203T235410Z
UID:10000681-1734197400-1734206400@www.newportconnection.com
SUMMARY:Dazzling Displays at Fashion Island
DESCRIPTION:Walk through Fashion Island’s star-lit path for memorable photos this holiday season at the following locations: \nNeiman Marcus/Bloomingdale’s Courtyard \nMacy’s Courtyard 
URL:https://www.newportconnection.com/event/dazzling-displays-at-fashion-island-2/2024-12-14/
LOCATION:Fashion Island\, 401 Newport Center Drive\, Newport Beach\, CA\, 92660\, United States
ATTACH;FMTTYPE=image/jpeg:https://www.newportconnection.com/wp-content/uploads/2024/12/FI-Dazzling-Displays-2024.jpg
END:VEVENT
BEGIN:VEVENT
DTSTART;TZID=America/Los_Angeles:20241214T173000
DTEND;TZID=America/Los_Angeles:20241214T200000
DTSTAMP:20260419T124947
CREATED:20241122T055233Z
LAST-MODIFIED:20241122T055242Z
UID:10000615-1734197400-1734206400@www.newportconnection.com
SUMMARY:Dazzling Displays at Fashion Island
DESCRIPTION:Walk through Fashion Island’s star-lit path for memorable photos this holiday season at the following locations: \nNeiman Marcus/Bloomingdale’s Courtyard \nMacy’s Courtyard 
URL:https://www.newportconnection.com/event/dazzling-displays-at-fashion-island/2024-12-14/
LOCATION:Fashion Island\, 401 Newport Center Drive\, Newport Beach\, CA\, 92660\, United States
ATTACH;FMTTYPE=image/jpeg:https://www.newportconnection.com/wp-content/uploads/2024/11/FI-Dazzling-Displays-2024.jpg
END:VEVENT
BEGIN:VEVENT
DTSTART;TZID=America/Los_Angeles:20241213T173000
DTEND;TZID=America/Los_Angeles:20241213T200000
DTSTAMP:20260419T124947
CREATED:20241203T235410Z
LAST-MODIFIED:20241203T235410Z
UID:10000680-1734111000-1734120000@www.newportconnection.com
SUMMARY:Dazzling Displays at Fashion Island
DESCRIPTION:Walk through Fashion Island’s star-lit path for memorable photos this holiday season at the following locations: \nNeiman Marcus/Bloomingdale’s Courtyard \nMacy’s Courtyard 
URL:https://www.newportconnection.com/event/dazzling-displays-at-fashion-island-2/2024-12-13/
LOCATION:Fashion Island\, 401 Newport Center Drive\, Newport Beach\, CA\, 92660\, United States
ATTACH;FMTTYPE=image/jpeg:https://www.newportconnection.com/wp-content/uploads/2024/12/FI-Dazzling-Displays-2024.jpg
END:VEVENT
BEGIN:VEVENT
DTSTART;TZID=America/Los_Angeles:20241213T173000
DTEND;TZID=America/Los_Angeles:20241213T200000
DTSTAMP:20260419T124947
CREATED:20241122T055233Z
LAST-MODIFIED:20241122T055242Z
UID:10000614-1734111000-1734120000@www.newportconnection.com
SUMMARY:Dazzling Displays at Fashion Island
DESCRIPTION:Walk through Fashion Island’s star-lit path for memorable photos this holiday season at the following locations: \nNeiman Marcus/Bloomingdale’s Courtyard \nMacy’s Courtyard 
URL:https://www.newportconnection.com/event/dazzling-displays-at-fashion-island/2024-12-13/
LOCATION:Fashion Island\, 401 Newport Center Drive\, Newport Beach\, CA\, 92660\, United States
ATTACH;FMTTYPE=image/jpeg:https://www.newportconnection.com/wp-content/uploads/2024/11/FI-Dazzling-Displays-2024.jpg
END:VEVENT
BEGIN:VEVENT
DTSTART;TZID=America/Los_Angeles:20241212T173000
DTEND;TZID=America/Los_Angeles:20241212T200000
DTSTAMP:20260419T124947
CREATED:20241203T235410Z
LAST-MODIFIED:20241203T235410Z
UID:10000679-1734024600-1734033600@www.newportconnection.com
SUMMARY:Dazzling Displays at Fashion Island
DESCRIPTION:Walk through Fashion Island’s star-lit path for memorable photos this holiday season at the following locations: \nNeiman Marcus/Bloomingdale’s Courtyard \nMacy’s Courtyard 
URL:https://www.newportconnection.com/event/dazzling-displays-at-fashion-island-2/2024-12-12/
LOCATION:Fashion Island\, 401 Newport Center Drive\, Newport Beach\, CA\, 92660\, United States
ATTACH;FMTTYPE=image/jpeg:https://www.newportconnection.com/wp-content/uploads/2024/12/FI-Dazzling-Displays-2024.jpg
END:VEVENT
BEGIN:VEVENT
DTSTART;TZID=America/Los_Angeles:20241212T173000
DTEND;TZID=America/Los_Angeles:20241212T200000
DTSTAMP:20260419T124947
CREATED:20241122T055233Z
LAST-MODIFIED:20241122T055242Z
UID:10000613-1734024600-1734033600@www.newportconnection.com
SUMMARY:Dazzling Displays at Fashion Island
DESCRIPTION:Walk through Fashion Island’s star-lit path for memorable photos this holiday season at the following locations: \nNeiman Marcus/Bloomingdale’s Courtyard \nMacy’s Courtyard 
URL:https://www.newportconnection.com/event/dazzling-displays-at-fashion-island/2024-12-12/
LOCATION:Fashion Island\, 401 Newport Center Drive\, Newport Beach\, CA\, 92660\, United States
ATTACH;FMTTYPE=image/jpeg:https://www.newportconnection.com/wp-content/uploads/2024/11/FI-Dazzling-Displays-2024.jpg
END:VEVENT
BEGIN:VEVENT
DTSTART;TZID=America/Los_Angeles:20241211T173000
DTEND;TZID=America/Los_Angeles:20241211T200000
DTSTAMP:20260419T124947
CREATED:20241203T235410Z
LAST-MODIFIED:20241203T235410Z
UID:10000678-1733938200-1733947200@www.newportconnection.com
SUMMARY:Dazzling Displays at Fashion Island
DESCRIPTION:Walk through Fashion Island’s star-lit path for memorable photos this holiday season at the following locations: \nNeiman Marcus/Bloomingdale’s Courtyard \nMacy’s Courtyard 
URL:https://www.newportconnection.com/event/dazzling-displays-at-fashion-island-2/2024-12-11/
LOCATION:Fashion Island\, 401 Newport Center Drive\, Newport Beach\, CA\, 92660\, United States
ATTACH;FMTTYPE=image/jpeg:https://www.newportconnection.com/wp-content/uploads/2024/12/FI-Dazzling-Displays-2024.jpg
END:VEVENT
BEGIN:VEVENT
DTSTART;TZID=America/Los_Angeles:20241211T173000
DTEND;TZID=America/Los_Angeles:20241211T200000
DTSTAMP:20260419T124947
CREATED:20241122T055233Z
LAST-MODIFIED:20241122T055242Z
UID:10000612-1733938200-1733947200@www.newportconnection.com
SUMMARY:Dazzling Displays at Fashion Island
DESCRIPTION:Walk through Fashion Island’s star-lit path for memorable photos this holiday season at the following locations: \nNeiman Marcus/Bloomingdale’s Courtyard \nMacy’s Courtyard 
URL:https://www.newportconnection.com/event/dazzling-displays-at-fashion-island/2024-12-11/
LOCATION:Fashion Island\, 401 Newport Center Drive\, Newport Beach\, CA\, 92660\, United States
ATTACH;FMTTYPE=image/jpeg:https://www.newportconnection.com/wp-content/uploads/2024/11/FI-Dazzling-Displays-2024.jpg
END:VEVENT
BEGIN:VEVENT
DTSTART;TZID=America/Los_Angeles:20241210T173000
DTEND;TZID=America/Los_Angeles:20241210T200000
DTSTAMP:20260419T124947
CREATED:20241203T235410Z
LAST-MODIFIED:20241203T235410Z
UID:10000677-1733851800-1733860800@www.newportconnection.com
SUMMARY:Dazzling Displays at Fashion Island
DESCRIPTION:Walk through Fashion Island’s star-lit path for memorable photos this holiday season at the following locations: \nNeiman Marcus/Bloomingdale’s Courtyard \nMacy’s Courtyard 
URL:https://www.newportconnection.com/event/dazzling-displays-at-fashion-island-2/2024-12-10/
LOCATION:Fashion Island\, 401 Newport Center Drive\, Newport Beach\, CA\, 92660\, United States
ATTACH;FMTTYPE=image/jpeg:https://www.newportconnection.com/wp-content/uploads/2024/12/FI-Dazzling-Displays-2024.jpg
END:VEVENT
BEGIN:VEVENT
DTSTART;TZID=America/Los_Angeles:20241210T173000
DTEND;TZID=America/Los_Angeles:20241210T200000
DTSTAMP:20260419T124947
CREATED:20241122T055233Z
LAST-MODIFIED:20241122T055242Z
UID:10000611-1733851800-1733860800@www.newportconnection.com
SUMMARY:Dazzling Displays at Fashion Island
DESCRIPTION:Walk through Fashion Island’s star-lit path for memorable photos this holiday season at the following locations: \nNeiman Marcus/Bloomingdale’s Courtyard \nMacy’s Courtyard 
URL:https://www.newportconnection.com/event/dazzling-displays-at-fashion-island/2024-12-10/
LOCATION:Fashion Island\, 401 Newport Center Drive\, Newport Beach\, CA\, 92660\, United States
ATTACH;FMTTYPE=image/jpeg:https://www.newportconnection.com/wp-content/uploads/2024/11/FI-Dazzling-Displays-2024.jpg
END:VEVENT
BEGIN:VEVENT
DTSTART;TZID=America/Los_Angeles:20241209T173000
DTEND;TZID=America/Los_Angeles:20241209T200000
DTSTAMP:20260419T124947
CREATED:20241203T235410Z
LAST-MODIFIED:20241203T235410Z
UID:10000676-1733765400-1733774400@www.newportconnection.com
SUMMARY:Dazzling Displays at Fashion Island
DESCRIPTION:Walk through Fashion Island’s star-lit path for memorable photos this holiday season at the following locations: \nNeiman Marcus/Bloomingdale’s Courtyard \nMacy’s Courtyard 
URL:https://www.newportconnection.com/event/dazzling-displays-at-fashion-island-2/2024-12-09/
LOCATION:Fashion Island\, 401 Newport Center Drive\, Newport Beach\, CA\, 92660\, United States
ATTACH;FMTTYPE=image/jpeg:https://www.newportconnection.com/wp-content/uploads/2024/12/FI-Dazzling-Displays-2024.jpg
END:VEVENT
BEGIN:VEVENT
DTSTART;TZID=America/Los_Angeles:20241209T173000
DTEND;TZID=America/Los_Angeles:20241209T200000
DTSTAMP:20260419T124947
CREATED:20241122T055233Z
LAST-MODIFIED:20241122T055242Z
UID:10000610-1733765400-1733774400@www.newportconnection.com
SUMMARY:Dazzling Displays at Fashion Island
DESCRIPTION:Walk through Fashion Island’s star-lit path for memorable photos this holiday season at the following locations: \nNeiman Marcus/Bloomingdale’s Courtyard \nMacy’s Courtyard 
URL:https://www.newportconnection.com/event/dazzling-displays-at-fashion-island/2024-12-09/
LOCATION:Fashion Island\, 401 Newport Center Drive\, Newport Beach\, CA\, 92660\, United States
ATTACH;FMTTYPE=image/jpeg:https://www.newportconnection.com/wp-content/uploads/2024/11/FI-Dazzling-Displays-2024.jpg
END:VEVENT
BEGIN:VEVENT
DTSTART;TZID=America/Los_Angeles:20241208T173000
DTEND;TZID=America/Los_Angeles:20241208T200000
DTSTAMP:20260419T124947
CREATED:20241203T235410Z
LAST-MODIFIED:20241203T235410Z
UID:10000675-1733679000-1733688000@www.newportconnection.com
SUMMARY:Dazzling Displays at Fashion Island
DESCRIPTION:Walk through Fashion Island’s star-lit path for memorable photos this holiday season at the following locations: \nNeiman Marcus/Bloomingdale’s Courtyard \nMacy’s Courtyard 
URL:https://www.newportconnection.com/event/dazzling-displays-at-fashion-island-2/2024-12-08/
LOCATION:Fashion Island\, 401 Newport Center Drive\, Newport Beach\, CA\, 92660\, United States
ATTACH;FMTTYPE=image/jpeg:https://www.newportconnection.com/wp-content/uploads/2024/12/FI-Dazzling-Displays-2024.jpg
END:VEVENT
BEGIN:VEVENT
DTSTART;TZID=America/Los_Angeles:20241208T173000
DTEND;TZID=America/Los_Angeles:20241208T200000
DTSTAMP:20260419T124947
CREATED:20241122T055233Z
LAST-MODIFIED:20241122T055242Z
UID:10000609-1733679000-1733688000@www.newportconnection.com
SUMMARY:Dazzling Displays at Fashion Island
DESCRIPTION:Walk through Fashion Island’s star-lit path for memorable photos this holiday season at the following locations: \nNeiman Marcus/Bloomingdale’s Courtyard \nMacy’s Courtyard 
URL:https://www.newportconnection.com/event/dazzling-displays-at-fashion-island/2024-12-08/
LOCATION:Fashion Island\, 401 Newport Center Drive\, Newport Beach\, CA\, 92660\, United States
ATTACH;FMTTYPE=image/jpeg:https://www.newportconnection.com/wp-content/uploads/2024/11/FI-Dazzling-Displays-2024.jpg
END:VEVENT
BEGIN:VEVENT
DTSTART;TZID=America/Los_Angeles:20241207T173000
DTEND;TZID=America/Los_Angeles:20241207T200000
DTSTAMP:20260419T124947
CREATED:20241203T235410Z
LAST-MODIFIED:20241203T235410Z
UID:10000674-1733592600-1733601600@www.newportconnection.com
SUMMARY:Dazzling Displays at Fashion Island
DESCRIPTION:Walk through Fashion Island’s star-lit path for memorable photos this holiday season at the following locations: \nNeiman Marcus/Bloomingdale’s Courtyard \nMacy’s Courtyard 
URL:https://www.newportconnection.com/event/dazzling-displays-at-fashion-island-2/2024-12-07/
LOCATION:Fashion Island\, 401 Newport Center Drive\, Newport Beach\, CA\, 92660\, United States
ATTACH;FMTTYPE=image/jpeg:https://www.newportconnection.com/wp-content/uploads/2024/12/FI-Dazzling-Displays-2024.jpg
END:VEVENT
BEGIN:VEVENT
DTSTART;TZID=America/Los_Angeles:20241207T173000
DTEND;TZID=America/Los_Angeles:20241207T200000
DTSTAMP:20260419T124947
CREATED:20241122T055233Z
LAST-MODIFIED:20241122T055242Z
UID:10000608-1733592600-1733601600@www.newportconnection.com
SUMMARY:Dazzling Displays at Fashion Island
DESCRIPTION:Walk through Fashion Island’s star-lit path for memorable photos this holiday season at the following locations: \nNeiman Marcus/Bloomingdale’s Courtyard \nMacy’s Courtyard 
URL:https://www.newportconnection.com/event/dazzling-displays-at-fashion-island/2024-12-07/
LOCATION:Fashion Island\, 401 Newport Center Drive\, Newport Beach\, CA\, 92660\, United States
ATTACH;FMTTYPE=image/jpeg:https://www.newportconnection.com/wp-content/uploads/2024/11/FI-Dazzling-Displays-2024.jpg
END:VEVENT
BEGIN:VEVENT
DTSTART;TZID=America/Los_Angeles:20241206T173000
DTEND;TZID=America/Los_Angeles:20241206T200000
DTSTAMP:20260419T124947
CREATED:20241203T235410Z
LAST-MODIFIED:20241203T235410Z
UID:10000673-1733506200-1733515200@www.newportconnection.com
SUMMARY:Dazzling Displays at Fashion Island
DESCRIPTION:Walk through Fashion Island’s star-lit path for memorable photos this holiday season at the following locations: \nNeiman Marcus/Bloomingdale’s Courtyard \nMacy’s Courtyard 
URL:https://www.newportconnection.com/event/dazzling-displays-at-fashion-island-2/2024-12-06/
LOCATION:Fashion Island\, 401 Newport Center Drive\, Newport Beach\, CA\, 92660\, United States
ATTACH;FMTTYPE=image/jpeg:https://www.newportconnection.com/wp-content/uploads/2024/12/FI-Dazzling-Displays-2024.jpg
END:VEVENT
BEGIN:VEVENT
DTSTART;TZID=America/Los_Angeles:20241206T173000
DTEND;TZID=America/Los_Angeles:20241206T200000
DTSTAMP:20260419T124947
CREATED:20241122T055233Z
LAST-MODIFIED:20241122T055242Z
UID:10000607-1733506200-1733515200@www.newportconnection.com
SUMMARY:Dazzling Displays at Fashion Island
DESCRIPTION:Walk through Fashion Island’s star-lit path for memorable photos this holiday season at the following locations: \nNeiman Marcus/Bloomingdale’s Courtyard \nMacy’s Courtyard 
URL:https://www.newportconnection.com/event/dazzling-displays-at-fashion-island/2024-12-06/
LOCATION:Fashion Island\, 401 Newport Center Drive\, Newport Beach\, CA\, 92660\, United States
ATTACH;FMTTYPE=image/jpeg:https://www.newportconnection.com/wp-content/uploads/2024/11/FI-Dazzling-Displays-2024.jpg
END:VEVENT
END:VCALENDAR